BEGIN:VCALENDAR
VERSION:2.0
PRODID:-//KomunicaMagazine - ECPv6.15.20//NONSGML v1.0//EN
CALSCALE:GREGORIAN
METHOD:PUBLISH
X-WR-CALNAME:KomunicaMagazine
X-ORIGINAL-URL:https://komunicamagazine.com
X-WR-CALDESC:Eventos para KomunicaMagazine
REFRESH-INTERVAL;VALUE=DURATION:PT1H
X-Robots-Tag:noindex
X-PUBLISHED-TTL:PT1H
BEGIN:VTIMEZONE
TZID:Europe/Lisbon
BEGIN:DAYLIGHT
TZOFFSETFROM:+0000
TZOFFSETTO:+0100
TZNAME:WEST
DTSTART:20250330T010000
END:DAYLIGHT
BEGIN:STANDARD
TZOFFSETFROM:+0100
TZOFFSETTO:+0000
TZNAME:WET
DTSTART:20251026T010000
END:STANDARD
BEGIN:DAYLIGHT
TZOFFSETFROM:+0000
TZOFFSETTO:+0100
TZNAME:WEST
DTSTART:20260329T010000
END:DAYLIGHT
BEGIN:STANDARD
TZOFFSETFROM:+0100
TZOFFSETTO:+0000
TZNAME:WET
DTSTART:20261025T010000
END:STANDARD
BEGIN:DAYLIGHT
TZOFFSETFROM:+0000
TZOFFSETTO:+0100
TZNAME:WEST
DTSTART:20270328T010000
END:DAYLIGHT
BEGIN:STANDARD
TZOFFSETFROM:+0100
TZOFFSETTO:+0000
TZNAME:WET
DTSTART:20271031T010000
END:STANDARD
END:VTIMEZONE
BEGIN:VEVENT
DTSTART;VALUE=DATE:20260424
DTEND;VALUE=DATE:20260427
DTSTAMP:20260422T095427
CREATED:20260409T123952Z
LAST-MODIFIED:20260409T124038Z
UID:31148-1776988800-1777247999@komunicamagazine.com
SUMMARY:Fim de Semana Gastronómico em Armamar
DESCRIPTION:O Município de Armamar volta a integrar a iniciativa dos Fins de Semana Gastronómicos\, promovida pelo Turismo do Porto e Norte de Portugal\, convidando visitantes e residentes a descobrir a riqueza da gastronomia local\, entre os dias 24 e 26 de abril. \nAo longo do fim de semana\, os restaurantes aderentes apresentam propostas que valorizam os produtos e tradições que definem a identidade do território. Entre os destaques estão o cabrito assado no forno e as sobremesas confecionadas com a emblemática maçã de Armamar. \nA experiência gastronómica será acompanhada por vinhos de excelência das regiões demarcadas do Douro e Távora-Varosa\, reforçando a identidade vínica do concelho. \nAo longo do fim de semana\, estão também previstas iniciativas de carácter cultural\, recreativo e comunitário\, que complementam a oferta gastronómica e contribuem para a vivência do concelho.
URL:https://komunicamagazine.com/event/31148/
LOCATION:Armamar
ATTACH;FMTTYPE=image/jpeg:https://komunicamagazine.com/wp-content/uploads/2026/04/Imagem-577-FILEminimizer.jpg
END:VEVENT
BEGIN:VEVENT
DTSTART;VALUE=DATE:20260426
DTEND;VALUE=DATE:20260427
DTSTAMP:20260422T095427
CREATED:20260327T130155Z
LAST-MODIFIED:20260327T130254Z
UID:30635-1777161600-1777247999@komunicamagazine.com
SUMMARY:Boticas | Trilho do Lobo leva participantes à descoberta de Covelo do Monte
DESCRIPTION:A Associação Celtiberus\, com o apoio do Município de Boticas\, promove a 26 de abril a caminhada “Trilho do Lobo de Covelo do Monte”\, uma iniciativa que volta a destacar o património natural e histórico do concelho de Boticas. \nO percurso tem início na aldeia de Cerdedo\, conhecida como a “aldeia verde”\, marcada pela extensão dos lameiros e pela emblemática igreja de São Tiago\, associada aos antigos caminhos de peregrinação a Santiago de Compostela. \nA caminhada segue depois em direção à Serra do Mourisco\, território envolto em histórias e lendas\, onde\, em 1808\, parte das tropas francesas sucumbiu às duras condições climatéricas durante as Invasões Napoleónicas em Portugal. Atualmente\, esta paisagem é marcada pela presença de mais de duas mil cabras e pelo simbolismo do lobo\, elemento identitário da região. \nO trilho conduz ainda os participantes até à aldeia abandonada de Covelo do Monte\, um local onde o tempo parece ter parado e onde as antigas casas de pedra são hoje ocupadas pelo gado que percorre livremente os campos envolventes. \nAo longo de caminhos de pastoreio e trilhos ancestrais\, a iniciativa convida à redescoberta de paisagens\, memórias e tradições\, promovendo o contacto direto com a natureza. \nCom esta atividade\, a organização pretende fomentar o turismo sustentável\, valorizar o património natural e cultural e atrair visitantes ao concelho. São esperados mais de 300 participantes.
URL:https://komunicamagazine.com/event/boticas-trilho-do-lobo-leva-participantes-a-descoberta-de-covelo-do-monte/
LOCATION:Boticas
ATTACH;FMTTYPE=image/jpeg:https://komunicamagazine.com/wp-content/uploads/2026/03/651040705_1383976853755045_3931847722599836349_n-FILEminimizer.jpg
END:VEVENT
BEGIN:VEVENT
DTSTART;VALUE=DATE:20260703
DTEND;VALUE=DATE:20260706
DTSTAMP:20260422T095427
CREATED:20260410T161453Z
LAST-MODIFIED:20260410T161559Z
UID:31161-1783036800-1783295999@komunicamagazine.com
SUMMARY:ARTiManha | Festival apresenta cartaz oficial da 6ª. edição que "Traz Arte aos Montes"
DESCRIPTION:O ARTimanha – Festival de Artes está de regresso à Lagoa do Alvão\, em Vila Pouca de Aguiar\, dias 3\, 4 e 5 de julho. \nA apresentação oficial do cartaz e da nova identidade visual aconteceu sábado\, na Biblioteca Municipal de Vila Pouca de Aguiar\, numa sessão que contou com um momento artístico ao vivo do projeto “Chega na Hora”\, dinamizado por Marcelo Almeida\, antecipando o ambiente criativo do festival. \nOrganizado pela Animódia Companhia de Arte e Cultura\, com o apoio do município\, o evento assume este ano o tema “Cultura e Floresta”\, com o objetivo de sensibilizar para a preservação ambiental na Serra do Alvão\, fortemente afetada pelos incêndios no último ano. \nCom o lema “Traz Arte aos Montes”\, o festival propõe uma programação diversificada que cruza música\, teatro\, dança\, artes visuais\, workshops\, conversas e atividades ao ar livre. A experiência estende-se também à gastronomia\, jogos tradicionais\, atividades aquáticas e residências artísticas\, sempre em ligação com o meio natural envolvente. \n \nPensado para todas as idades\, o ARTimanha apresenta-se como um espaço de encontro entre artistas e comunidade\, promovendo uma vivência cultural imersiva no coração de Trás-os-Montes. \nPrograma com três dias de experiências\nO arranque faz-se na sexta-feira\, 3 de julho\, com iniciativas como uma ação de plogging\, uma conversa dedicada ao tema do festival\, sunset com Miguel Ângelo e concertos de O Gajo e Fanfarra da Cebolada\, terminando com um live set de “Chega na Hora”. \nNo sábado\, destaque para workshops de fotografia e percussão\, atuações de Hermanas Bananas e Galandum Galundaina\, além do espetáculo da residência artística do festival e um DJ set de Maryska. \nO último dia\, domingo\, convida à tranquilidade e ligação à natureza\, com uma caminhada meditativa\, banho de argila e a festa de encerramento. \nParalelamente\, o festival inclui atividades como paddle no Pena Aventura Park\, espaços de consciência\, programação familiar e iniciativas de descoberta da floresta. \nNova imagem\, mesma identidade\nNesta edição\, o ARTimanha apresenta uma nova identidade visual\, desenvolvida pelo Studio Merge\, agência de design do Porto. A renovação surge inspirada na ligação entre arte e natureza\, procurando refletir os elementos da Lagoa do Alvão e a essência do festival. \n \nA organização reforça que o evento continua a apostar na valorização do património cultural e ambiental\, consolidando Vila Pouca de Aguiar como um território em afirmação no panorama cultural. \nBilhetes já disponíveis\nOs bilhetes já se encontram à venda online\, estando também disponíveis zonas de campismo e caravanismo. A organização incentiva ainda a utilização de alojamentos locais\, contribuindo para a dinamização económica do concelho. \nPrograma\nSexta-feira | 3 de julho \n\n10h00 – Be Different + Ação de Plogging\n16h00 – Talk “Cultura e a Floresta”\n18h30 – Sunset com Miguel Ângelo\n22h00 – Concerto: O Gajo\n23h30 – Fanfarra da Cebolada\n01h00 – Live set Chega na Hora\n\nSábado | 4 de julho \n\n10h00 – Workshop “Fotografar\, Naturalmente” (Lino Silva)\n15h00 – Hermanas Bananas\n16h00 – Workshop de Percussão (Óscar Fundo)\n18h30 – Sunset com Rui Moreira\n22h00 – Espetáculo da Residência Artística ARTimanha 2026 (nome a anunciar)\n23h30 – Concerto: Galandum Galundaina\n01h00 – DJ set Maryska\n\nDomingo | 5 de julho \n\n10h30 – Caminhada Meditativa by Nature Roots Restart\n15h00 – Banho de Argila\n16h30 – Festa de Encerramento\n\nAtividades paralelas \n\nSUP Paddle pelo Pena Aventura Park\nJogos tradicionais\nAtividades de descoberta na floresta\nEspaço Consciência\nProgramação dedicada a famílias
URL:https://komunicamagazine.com/event/artimanha-festival-apresenta-cartaz-oficial-da-6a-edicao-que-traz-arte-aos-montes/
LOCATION:Lagoa do Alvão\, Vila Pouca de Aguiar
ATTACH;FMTTYPE=image/jpeg:https://komunicamagazine.com/wp-content/uploads/2026/04/Edicao-2025-4-FILEminimizer.jpeg
END:VEVENT
BEGIN:VEVENT
DTSTART;VALUE=DATE:20260814
DTEND;VALUE=DATE:20260816
DTSTAMP:20260422T095427
CREATED:20260307T180534Z
LAST-MODIFIED:20260307T180657Z
UID:30350-1786665600-1786838399@komunicamagazine.com
SUMMARY:Vila Pouca de Aguiar | Pedras Sounds celebra a 10.ª edição com dois dias de música em Pedras Salgadas
DESCRIPTION:O Pedras Sounds Festival regressa a Pedras Salgadas nos dias 14 e 15 de agosto para uma edição especial que assinala a 10.ª edição do evento. Ao longo de dois dias\, o festival promete voltar a transformar a vila termal num ponto de encontro de música\, natureza e animação. \nO cartaz da edição de 2026 foi apresentado oficialmente este sábado\, 7 de março\, num momento que marcou o arranque da contagem decrescente para aquela que será uma edição comemorativa do festival. \nAo longo dos últimos anos\, o Pedras Sounds tem vindo a afirmar-se como um dos eventos de verão de referência na região\, reunindo público de diferentes idades num ambiente descontraído e festivo. \nO programa musical apresenta\, na sexta-feira\, 14 de agosto\, o espetáculo Remember Blondie\, seguido da Festa M80\, numa noite dedicada aos grandes êxitos que marcaram várias gerações. \nNo sábado\, 15 de agosto\, o festival continua com a energia contagiante dos Bombatuke e a atuação de Dillaz\, um dos artistas mais populares da nova geração da música portuguesa. \nDurante os dois dias\, a animação será também assegurada pelos DJs oficiais Pedras Sounds\, responsáveis por manter o ambiente festivo entre concertos e prolongar a festa pela noite dentro. \nMais do que um festival de música\, o Pedras Sounds afirma-se como uma experiência que alia música\, convívio e contacto com a natureza\, prometendo ainda várias surpresas nesta edição comemorativa. \nA organização convida todos a juntarem-se a esta celebração da 10.ª edição do Pedras Sounds\, que promete voltar a marcar o verão em Pedras Salgadas.
URL:https://komunicamagazine.com/event/pedras-sounds-celebra-a-10-a-edicao-com-dois-dias-de-musica-em-pedras-salgadas/
LOCATION:Pedras Salgadas
ATTACH;FMTTYPE=image/jpeg:https://komunicamagazine.com/wp-content/uploads/2026/03/1X1-FILEminimizer.jpg
END:VEVENT
BEGIN:VEVENT
DTSTART;VALUE=DATE:20260923
DTEND;VALUE=DATE:20260924
DTSTAMP:20260422T095427
CREATED:20260409T125108Z
LAST-MODIFIED:20260409T125140Z
UID:31155-1790121600-1790207999@komunicamagazine.com
SUMMARY:Valpaços recebe II Fórum da Bio-Região Alto Tâmega e Barroso em setembro
DESCRIPTION:O Auditório Arte e Cultura Luís Teixeira\, em Valpaços\, vai acolher o II Fórum da Bio-Região Alto Tâmega e Barroso\, agendado para 23 de setembro. \nA iniciativa reúne diferentes agentes ligados ao território\, com o objetivo de promover a reflexão e o debate em torno do desenvolvimento sustentável\, da valorização dos recursos locais e da dinâmica da bio-região. \nDepois do sucesso da primeira edição\, o evento regressa com a ambição de reforçar o posicionamento do Alto Tâmega e Barroso enquanto referência na promoção de práticas sustentáveis e na ligação entre comunidade\, economia e ambiente.
URL:https://komunicamagazine.com/event/valpacos-recebe-ii-forum-da-bio-regiao-alto-tamega-e-barroso-em-setembro/
LOCATION:Valpaços
ATTACH;FMTTYPE=image/jpeg:https://komunicamagazine.com/wp-content/uploads/2026/04/b22aeb7a-e048-4a39-8862-711c4f0f12c8-FILEminimizer.jpg
END:VEVENT
END:VCALENDAR