BEGIN:VCALENDAR
VERSION:2.0
PRODID:-//KomunicaMagazine - ECPv6.15.20//NONSGML v1.0//EN
CALSCALE:GREGORIAN
METHOD:PUBLISH
X-WR-CALNAME:KomunicaMagazine
X-ORIGINAL-URL:https://komunicamagazine.com
X-WR-CALDESC:Eventos para KomunicaMagazine
REFRESH-INTERVAL;VALUE=DURATION:PT1H
X-Robots-Tag:noindex
X-PUBLISHED-TTL:PT1H
BEGIN:VTIMEZONE
TZID:Europe/Lisbon
BEGIN:DAYLIGHT
TZOFFSETFROM:+0000
TZOFFSETTO:+0100
TZNAME:WEST
DTSTART:20250330T010000
END:DAYLIGHT
BEGIN:STANDARD
TZOFFSETFROM:+0100
TZOFFSETTO:+0000
TZNAME:WET
DTSTART:20251026T010000
END:STANDARD
BEGIN:DAYLIGHT
TZOFFSETFROM:+0000
TZOFFSETTO:+0100
TZNAME:WEST
DTSTART:20260329T010000
END:DAYLIGHT
BEGIN:STANDARD
TZOFFSETFROM:+0100
TZOFFSETTO:+0000
TZNAME:WET
DTSTART:20261025T010000
END:STANDARD
BEGIN:DAYLIGHT
TZOFFSETFROM:+0000
TZOFFSETTO:+0100
TZNAME:WEST
DTSTART:20270328T010000
END:DAYLIGHT
BEGIN:STANDARD
TZOFFSETFROM:+0100
TZOFFSETTO:+0000
TZNAME:WET
DTSTART:20271031T010000
END:STANDARD
END:VTIMEZONE
BEGIN:VEVENT
DTSTART;VALUE=DATE:20260317
DTEND;VALUE=DATE:20260407
DTSTAMP:20260422T144956
CREATED:20260310T215845Z
LAST-MODIFIED:20260310T215908Z
UID:30386-1773705600-1775519999@komunicamagazine.com
SUMMARY:“Espólio Religioso” em exposição no Posto de Turismo do Alto Tâmega e Barroso
DESCRIPTION:O Posto de Turismo do Alto Tâmega e Barroso (PTAT) recebe\, entre os dias 17 de março e 6 de abril\, a exposição “Espólio Religioso”\, uma mostra evocativa da época da Páscoa que resulta de uma parceria com a Casa dos Candeias – Museu Vivo. \nEsta exposição reúne um conjunto de peças de cariz religioso\, maioritariamente representações de Cristo\, que refletem a profunda simbologia e tradição associadas à celebração pascal. As obras expostas evidenciam não só o valor artístico das peças\, mas também a sua forte carga histórica e espiritual\, testemunhando a devoção e as práticas religiosas enraizadas ao longo do tempo. \nA mostra convida visitantes e turistas a descobrirem um espólio singular\, onde arte\, fé e tradição se encontram\, proporcionando um momento de contemplação e reflexão característico deste período do calendário religioso. \nA exposição estará patente nas instalações do PTAT\, sito na Alameda do Tabolado\, em Chaves\, podendo ser visitada de segunda a domingo\, das 09h às 18h.
URL:https://komunicamagazine.com/event/espolio-religioso-em-exposicao-no-posto-de-turismo-do-alto-tamega-e-barroso/
LOCATION:Casa dos Candeias – Museu Vivo
ATTACH;FMTTYPE=image/png:https://komunicamagazine.com/wp-content/uploads/2026/03/transferir-FILEminimizer-6.png
END:VEVENT
END:VCALENDAR